BEGIN:VCALENDAR
VERSION:2.0
PRODID:-//94.9 The Wave - ECPv4.6.26//NONSGML v1.0//EN
CALSCALE:GREGORIAN
METHOD:PUBLISH
X-WR-CALNAME:94.9 The Wave
X-ORIGINAL-URL:https://949thewave.com
X-WR-CALDESC:Events for 94.9 The Wave
BEGIN:VEVENT
DTSTART;TZID=America/Halifax:20220605T130000
DTEND;TZID=America/Halifax:20220605T160000
DTSTAMP:20260421T091800
CREATED:20220517T104351Z
LAST-MODIFIED:20220517T104351Z
UID:12655-1654434000-1654444800@949thewave.com
SUMMARY:Hawks Dream Field Presents Hecky's 1 st Birthday !
DESCRIPTION:An afternoon to celebrate Hecky’s first birthday !!! \nThis party will be his official unveiling\, and will feature music\, magic shows\, bounce house\, entertainment\, snacks and more \n
URL:https://949thewave.com/event/hawks-dream-field-presents-heckys-1-st-birthday/
LOCATION:Dominion Legion\, Neville Street\, Dominion
CATEGORIES:Community Event
END:VEVENT
BEGIN:VEVENT
DTSTART;TZID=America/Halifax:20220605T140000
DTEND;TZID=America/Halifax:20220605T160000
DTSTAMP:20260421T091800
CREATED:20220519T105259Z
LAST-MODIFIED:20220519T105259Z
UID:12659-1654437600-1654444800@949thewave.com
SUMMARY:Spring Craft Show / Sale
DESCRIPTION:A Spring Craft Show / Sale will be held at the Mira Centre on Sunday June 5 from 2 to 4 pm\, admission $ 2. Also delicious homemade ginger cake with lemon sauce and tea or coffee will be available for $5. Come and see the great talent of the local folks while enjoying time with your friends and neighbors. \n
URL:https://949thewave.com/event/spring-craft-show-sale/
CATEGORIES:Community Event
END:VEVENT
END:VCALENDAR