BEGIN:VCALENDAR
VERSION:2.0
PRODID:-//94.9 The Wave - ECPv4.6.26//NONSGML v1.0//EN
CALSCALE:GREGORIAN
METHOD:PUBLISH
X-WR-CALNAME:94.9 The Wave
X-ORIGINAL-URL:https://949thewave.com
X-WR-CALDESC:Events for 94.9 The Wave
BEGIN:VEVENT
DTSTART;VALUE=DATE:20220411
DTEND;VALUE=DATE:20220601
DTSTAMP:20260419T172823
CREATED:20220411T154442Z
LAST-MODIFIED:20220411T154442Z
UID:12578-1649635200-1654041599@949thewave.com
SUMMARY:Join a walk group in Coxheath!
DESCRIPTION:Hike Nova Scotia introduces gentle\, easy walking groups through their NS Walks initiative. There are walking groups starting in Coxheath. Sign-up at www.nswalks.ca or 902-932-6902. \n
URL:https://949thewave.com/event/join-a-walk-group-in-coxheath/
CATEGORIES:Community Events
END:VEVENT
BEGIN:VEVENT
DTSTART;VALUE=DATE:20220511
DTEND;VALUE=DATE:20220512
DTSTAMP:20260419T172823
CREATED:20220502T125325Z
LAST-MODIFIED:20220502T125325Z
UID:12601-1652227200-1652313599@949thewave.com
SUMMARY:McHappy Day
DESCRIPTION:On McHappy Day\, a portion of proceeds from ALL menu items ALL DAY at McDonald’s will support RMHC and there are more ways than ever to support!  \n
URL:https://949thewave.com/event/mchappy-day-2022/
ATTACH;FMTTYPE=image/jpeg:https://949thewave.com/wp-content/uploads/sites/12/2022/05/mchappy-day-2022.jpg
END:VEVENT
END:VCALENDAR