BEGIN:VCALENDAR
VERSION:2.0
PRODID:-//94.9 The Wave - ECPv4.6.26//NONSGML v1.0//EN
CALSCALE:GREGORIAN
METHOD:PUBLISH
X-WR-CALNAME:94.9 The Wave
X-ORIGINAL-URL:https://949thewave.com
X-WR-CALDESC:Events for 94.9 The Wave
BEGIN:VEVENT
DTSTART;VALUE=DATE:20211122
DTEND;VALUE=DATE:20211207
DTSTAMP:20260420T111215
CREATED:20211123T161828Z
LAST-MODIFIED:20211123T161828Z
UID:12262-1637539200-1638835199@949thewave.com
SUMMARY:The Mickey McNeil Turkey drive for the Glace Bay Food Bank
DESCRIPTION:The turkey drive will start on Nov 22nd till Dec 6th\, the cost is $21 each.  Money can be sent in e-transfers to\, all small letters ( xavierandkennedy@hotmail.com ) looking to buy at least 100.  Can contact Mickey Mc Neil at the Dominion Arena.  Turkeys will be dropped off at the Glace Bay Food Bank\, let’s make this happen!  In the words of Mickey McNeil\, “we have potatoes\, carrots\, turnips but need a turkey to make it complete.”  We did 150 last year and hope to do the same this year\, need any other information\, please contact Mickey by phone 902-849-4320 or cell 902-574-4321. \nThank you to all those who donate! \n
URL:https://949thewave.com/event/the-mickey-mcneil-turkey-drive-for-the-glace-bay-food-bank/
CATEGORIES:Charity Events
END:VEVENT
BEGIN:VEVENT
DTSTART;VALUE=DATE:20211204
DTEND;VALUE=DATE:20211205
DTSTAMP:20260420T111215
CREATED:20211201T181644Z
LAST-MODIFIED:20211201T181644Z
UID:12306-1638576000-1638662399@949thewave.com
SUMMARY:Nova Scotia Provincial Boxing Championship
DESCRIPTION:Nova Scotia Provincial Boxing Championship Saturday\, December 4th please come out to Center 200 for an evening of Olympic style boxing while boxers compete for the Provincial title. General admission $25\, table of 10 $350.00.  To purchase a table\, message New Waterford Boxing club\, Tri-Town Boxing club or Rival boxing. General admission can be purchased on www.ticketmaster.ca or at Center 200 box office. \n
URL:https://949thewave.com/event/nova-scotia-provincial-boxing-championship/
CATEGORIES:Entertainment
END:VEVENT
BEGIN:VEVENT
DTSTART;TZID=America/Halifax:20211204T090000
DTEND;TZID=America/Halifax:20211205T160000
DTSTAMP:20260420T111215
CREATED:20211130T192618Z
LAST-MODIFIED:20211130T192618Z
UID:12305-1638608400-1638720000@949thewave.com
SUMMARY:Coastal Golf Christmas Blowout Sale
DESCRIPTION:Saturday & Sunday 9am – 4pm Dec 4th & 5th. Hampton Inn at Membertou conference room. \nShop Apparel\, clubs\, bags\, shoes\, and accessories\, gift cards etc\nCabot Trail Passes\, Bell Bay Passport Passes and gift certificates for local golf courses. \nHuge Golf Liquidation Sale shop for Christmas best deals. \n
URL:https://949thewave.com/event/coastal-golf-christmas-blowout-sale/
CATEGORIES:Community Event
END:VEVENT
BEGIN:VEVENT
DTSTART;TZID=America/Halifax:20211204T110000
DTEND;TZID=America/Halifax:20211204T130000
DTSTAMP:20260420T111215
CREATED:20211108T162932Z
LAST-MODIFIED:20211108T162932Z
UID:12214-1638615600-1638622800@949thewave.com
SUMMARY:The Mira Centre Bake Sale
DESCRIPTION:Marion Bridge Saturday\, Dec 4 from 11:00 am to 1:00 pm at the Mira Centre \nA bake sale with delicious homemade baking and Trinkets and Treasure event with numerous new to you items for sale. Please help the environment by bringing your own bags. \n
URL:https://949thewave.com/event/the-mira-centre-bake-sale/
CATEGORIES:Community Event
END:VEVENT
BEGIN:VEVENT
DTSTART;TZID=America/Halifax:20211204T110000
DTEND;TZID=America/Halifax:20211204T130000
DTSTAMP:20260420T111215
CREATED:20211116T211918Z
LAST-MODIFIED:20211116T211918Z
UID:12234-1638615600-1638622800@949thewave.com
SUMMARY:Mira Centre Fundraiser Bake Sale\, Trinkets and Treasures
DESCRIPTION:
URL:https://949thewave.com/event/mira-centre-fundraiser-bake-sale-trinkets-and-treasures/
CATEGORIES:Community Event
ATTACH;FMTTYPE=image/jpeg:https://949thewave.com/wp-content/uploads/sites/12/2021/11/257546592_2903232013321389_6433227354703862299_n.jpg
END:VEVENT
END:VCALENDAR