BEGIN:VCALENDAR
VERSION:2.0
PRODID:-//94.9 The Wave - ECPv4.6.26//NONSGML v1.0//EN
CALSCALE:GREGORIAN
METHOD:PUBLISH
X-WR-CALNAME:94.9 The Wave
X-ORIGINAL-URL:https://949thewave.com
X-WR-CALDESC:Events for 94.9 The Wave
BEGIN:VEVENT
DTSTART;TZID=America/Halifax:20200528T190000
DTEND;TZID=America/Halifax:20200528T210000
DTSTAMP:20260419T202615
CREATED:20200511T171653Z
LAST-MODIFIED:20200511T171653Z
UID:9824-1590692400-1590699600@949thewave.com
SUMMARY:Hike NS Intro to Hiking Webinar
DESCRIPTION:Hike Nova Scotia will offer an Intro to Hiking webinar on May 28 at 7 pm for new and novice hikers. \nRegister by May 27. Details and registration at www.hikenovascotia.ca. \n
URL:https://949thewave.com/event/hike-ns-intro-to-hiking-webinar/
END:VEVENT
END:VCALENDAR