BEGIN:VCALENDAR
VERSION:2.0
PRODID:-//94.9 The Wave - ECPv4.6.26//NONSGML v1.0//EN
CALSCALE:GREGORIAN
METHOD:PUBLISH
X-WR-CALNAME:94.9 The Wave
X-ORIGINAL-URL:https://949thewave.com
X-WR-CALDESC:Events for 94.9 The Wave
BEGIN:VEVENT
DTSTART;TZID=America/Halifax:20190704T190000
DTEND;TZID=America/Halifax:20190704T200000
DTSTAMP:20260422T114351
CREATED:20190603T181225Z
LAST-MODIFIED:20190603T181225Z
UID:7153-1562266800-1562270400@949thewave.com
SUMMARY:An Evening of Pastoral Aires
DESCRIPTION:An evening of Pastoral Aires\, July 4\, 7:00 pm. Admission by donation to Community Christmas Food Boxes. Bethel United Church\, Marion Bridge\, 2589 Hillside Rd \n
URL:https://949thewave.com/event/an-evening-of-pastoral-aires/
END:VEVENT
END:VCALENDAR