BEGIN:VCALENDAR
VERSION:2.0
PRODID:-//94.9 The Wave - ECPv4.6.26//NONSGML v1.0//EN
CALSCALE:GREGORIAN
METHOD:PUBLISH
X-WR-CALNAME:94.9 The Wave
X-ORIGINAL-URL:https://949thewave.com
X-WR-CALDESC:Events for 94.9 The Wave
BEGIN:VEVENT
DTSTART;TZID=America/Halifax:20190626T193000
DTEND;TZID=America/Halifax:20190626T220000
DTSTAMP:20260421T173956
CREATED:20190612T165116Z
LAST-MODIFIED:20190612T165116Z
UID:7226-1561577400-1561586400@949thewave.com
SUMMARY:Bingo
DESCRIPTION:Holy Family CWL will be having a bingo game on Wed. June 26\,2019\, at 7:30 PM. at Holy Family Hall\, Main Street\, Sydney Mines. Excellent Prizes. Canteen available. Admission $2.00\, extra cards $1.00 \n
URL:https://949thewave.com/event/bingo-3/
END:VEVENT
END:VCALENDAR