BEGIN:VCALENDAR
VERSION:2.0
PRODID:-//94.9 The Wave - ECPv4.6.26//NONSGML v1.0//EN
CALSCALE:GREGORIAN
METHOD:PUBLISH
X-WR-CALNAME:94.9 The Wave
X-ORIGINAL-URL:https://949thewave.com
X-WR-CALDESC:Events for 94.9 The Wave
BEGIN:VEVENT
DTSTART;TZID=America/Halifax:20190607T080000
DTEND;TZID=America/Halifax:20190607T133000
DTSTAMP:20260424T134801
CREATED:20190527T160926Z
LAST-MODIFIED:20190527T160926Z
UID:7078-1559894400-1559914200@949thewave.com
SUMMARY:Spring Tea and Sale
DESCRIPTION:St. Mary’s guild spring Tea and Sale with Dessert.\nFriday\, June 7\, 2019 from 11am to 1:30 pm  ( Eat in or Take Out ) $8.00\nUpstairs at St. Mary’s Hall 8 Marconi Street\, Glace Bay. \n
URL:https://949thewave.com/event/spring-tea-and-sale-2/
END:VEVENT
END:VCALENDAR