BEGIN:VCALENDAR
VERSION:2.0
PRODID:-//94.9 The Wave - ECPv4.6.26//NONSGML v1.0//EN
CALSCALE:GREGORIAN
METHOD:PUBLISH
X-WR-CALNAME:94.9 The Wave
X-ORIGINAL-URL:https://949thewave.com
X-WR-CALDESC:Events for 94.9 The Wave
BEGIN:VEVENT
DTSTART;TZID=America/Halifax:20190606T110000
DTEND;TZID=America/Halifax:20190606T130000
DTSTAMP:20260424T121711
CREATED:20190528T122258Z
LAST-MODIFIED:20190528T122258Z
UID:7087-1559818800-1559826000@949thewave.com
SUMMARY:Polish Language Workshops
DESCRIPTION:Cape Breton University’s Tompkins Institute\, in collaboration with the St. Michael’s Polish Benefit Society\, is offering a series of two free language lunches called “Polish Hospitality for Beginners.” The lunch workshops are about welcoming visitors in the Polish language. Learn basic words and conversations. Thursday\, June 6\, and Thursday\, June 13\, from 11 a.m. to 1 p.m. at CBU — Room CE-313. To register call Prof. Tom Urbaniak at 902-563-1226 or e-mail tom_urbaniak@cbu.ca . \n
URL:https://949thewave.com/event/polish-language-workshops/
END:VEVENT
END:VCALENDAR