BEGIN:VCALENDAR
VERSION:2.0
PRODID:-//94.9 The Wave - ECPv4.6.26//NONSGML v1.0//EN
CALSCALE:GREGORIAN
METHOD:PUBLISH
X-WR-CALNAME:94.9 The Wave
X-ORIGINAL-URL:https://949thewave.com
X-WR-CALDESC:Events for 94.9 The Wave
BEGIN:VEVENT
DTSTART;TZID=America/Halifax:20190605T140000
DTEND;TZID=America/Halifax:20190605T150000
DTSTAMP:20260424T094208
CREATED:20190501T133848Z
LAST-MODIFIED:20190501T133848Z
UID:6859-1559743200-1559746800@949thewave.com
SUMMARY:McConnell Library
DESCRIPTION:Get Moving with Line Dancing!\nJune 5th 2 pm\nMcConnell Library\, Sydney\nJoin popular Line Dancing instructor\, Linda Campbell\, for a chance to see if line dancing is the fun exercise you have been looking for!  Wear comfortable clothes and shoes that will slide (not runners)\, and be prepared to get moving!\nPLEASE REGISTER at the McConnell Library desk or by calling 902-562-3161. \n
URL:https://949thewave.com/event/mcconnell-library-26/
END:VEVENT
END:VCALENDAR