BEGIN:VCALENDAR
VERSION:2.0
PRODID:-//94.9 The Wave - ECPv4.6.26//NONSGML v1.0//EN
CALSCALE:GREGORIAN
METHOD:PUBLISH
X-WR-CALNAME:94.9 The Wave
X-ORIGINAL-URL:https://949thewave.com
X-WR-CALDESC:Events for 94.9 The Wave
BEGIN:VEVENT
DTSTART;VALUE=DATE:20190601
DTEND;VALUE=DATE:20190602
DTSTAMP:20260422T012216
CREATED:20190514T163152Z
LAST-MODIFIED:20190514T163708Z
UID:6984-1559347200-1559433599@949thewave.com
SUMMARY:Navigation Course
DESCRIPTION:A Navigation Maps & Compass Course will be offered June 1-2 in Sydney. Participants receive Outdoor Council of Canada national certification. The cost is $110 to $135. Learn more and register at www.hikenovascotia.ca. \n
URL:https://949thewave.com/event/navigation-course/
END:VEVENT
BEGIN:VEVENT
DTSTART;TZID=America/Halifax:20190601T080000
DTEND;TZID=America/Halifax:20190601T110000
DTSTAMP:20260422T012216
CREATED:20190516T174158Z
LAST-MODIFIED:20190516T174158Z
UID:7002-1559376000-1559386800@949thewave.com
SUMMARY:YARD SALE
DESCRIPTION:The Auxiliary of the Cove Guest Home will be holding a Gigantic YARD SALE on Saturday\, June 1st\, 2019 at the Riverview Y’s Men’s Center\, 54\, Riverdale Drive\, Westmount\, NS from 8:00 am – 11:00 am. Come Rain or Shine there will be great buys on everything from basement to attic. Admission is $ 1.00. \n
URL:https://949thewave.com/event/yard-sale-3/
END:VEVENT
BEGIN:VEVENT
DTSTART;TZID=America/Halifax:20190601T090000
DTEND;TZID=America/Halifax:20190601T130000
DTSTAMP:20260422T012216
CREATED:20190523T135046Z
LAST-MODIFIED:20190523T135046Z
UID:7048-1559379600-1559394000@949thewave.com
SUMMARY:Annual Shred Day
DESCRIPTION:Date: Saturday\, June 1st\n• Time: 9am-1pm\n• Where: Cape Breton Credit Union-340 Prince Street\, Sydney\n• What: Annual Shred Day\n• Description: Recycling Truck will be available at Cape Breton Credit Union Prince Street Sydney Branch to professionally shred any personal or confidential documents you would like destroyed. This FREE event is for the whole community\, so everyone is welcome!\n• For more information please call Cape Breton Credit Union at 902-562-5559 or visit www.cbcu.ca \n
URL:https://949thewave.com/event/annual-shred-day/
END:VEVENT
END:VCALENDAR