BEGIN:VCALENDAR
VERSION:2.0
PRODID:-//94.9 The Wave - ECPv4.6.26//NONSGML v1.0//EN
CALSCALE:GREGORIAN
METHOD:PUBLISH
X-WR-CALNAME:94.9 The Wave
X-ORIGINAL-URL:https://949thewave.com
X-WR-CALDESC:Events for 94.9 The Wave
BEGIN:VEVENT
DTSTART;TZID=America/Halifax:20171102T080000
DTEND;TZID=America/Halifax:20171105T170000
DTSTAMP:20260419T172644
CREATED:20171031T134546Z
LAST-MODIFIED:20171031T134546Z
UID:4219-1509609600-1509901200@949thewave.com
SUMMARY:Green and Gold Hockey Tournament
DESCRIPTION:Annual Mae Kibyuk Green & Gold Hockey Tournament this weekend Nov. 2-5th\, 2017 at the Emera Centre in North Sydney \n
URL:https://949thewave.com/event/green-and-gold-hockey-tournament/
END:VEVENT
BEGIN:VEVENT
DTSTART;TZID=America/Halifax:20171103T100000
DTEND;TZID=America/Halifax:20171104T170000
DTSTAMP:20260419T172644
CREATED:20171025T124353Z
LAST-MODIFIED:20171025T124353Z
UID:4169-1509703200-1509814800@949thewave.com
SUMMARY:Intergenerational Sharing of Information
DESCRIPTION:November 3 @ 10:00 am – November 4 @ 5:00 pm\n \n \nThen vs. Now\n\n\n\nFriday\, November 3rd 10 AM – 5 PM and Saturday\, November 4th 1 PM – 5 PM at Mira Seniors’ and Pensioners’ Centre\, Marion Bridge.  Topics on display:  Games\, Tools\, Food\, Recreation\, Communication\, School Days\, Household Items\, Odds and Ends.  Free Admission\, Everyone Welcome!  Come and Enjoy the Displays and Refreshments.  Talk with Seniors and Students about the changes through the years. \n\n\n
URL:https://949thewave.com/event/intergenerational-sharing-of-information/
END:VEVENT
BEGIN:VEVENT
DTSTART;TZID=America/Halifax:20171104T100000
DTEND;TZID=America/Halifax:20171105T150000
DTSTAMP:20260419T172644
CREATED:20171025T125404Z
LAST-MODIFIED:20171025T125404Z
UID:4179-1509789600-1509894000@949thewave.com
SUMMARY:Christmas Craft Sale
DESCRIPTION:22nd Annual Christmas Craft Sale\, Millville Community Centre on the Millville Highway.  Saturday\, Nov 4th 10 AM – 4 PM and Sunday\, Nov 5th\, 11 AM – 3 PM.  Admission: $2\, children under 12 free.  Featuring Christmas crafts\, knitting\, sewing\, home baking\, fudge\, floral arrangements and more. \nSponsored by Millville Community Centre. \n
URL:https://949thewave.com/event/christmas-craft-sale/
END:VEVENT
BEGIN:VEVENT
DTSTART;TZID=America/Halifax:20171104T110000
DTEND;TZID=America/Halifax:20171104T160000
DTSTAMP:20260419T172644
CREATED:20171102T190218Z
LAST-MODIFIED:20171102T190218Z
UID:4241-1509793200-1509811200@949thewave.com
SUMMARY:Christmas Tea and Sale
DESCRIPTION:Christmas Tea and Sale at United Heritage Church\, 500 Charlotte Street\, Sydney on Saturday\, November 4th from 11 AM – 4 PM.  Home baking and crafts. Pay at the door $7.00.  Children half price. \n
URL:https://949thewave.com/event/christmas-tea-and-sale/
END:VEVENT
BEGIN:VEVENT
DTSTART;TZID=America/Halifax:20171104T190000
DTEND;TZID=America/Halifax:20171104T220000
DTSTAMP:20260419T172644
CREATED:20171018T142506Z
LAST-MODIFIED:20171018T142506Z
UID:4131-1509822000-1509832800@949thewave.com
SUMMARY:Jimmy the Janitor
DESCRIPTION:“Comedian Jimmy the Janitor”\, is coming to The Hat…Saturday November 4th …for tickets call or visit the box office at 40 Bentinck Street or buy online at highlandartstheatre.com …it’s good clean hilarious comedy for ages 14 plus and presented by CJCB 1270 \n
URL:https://949thewave.com/event/jimmy-the-janitor/
END:VEVENT
END:VCALENDAR