BEGIN:VCALENDAR
VERSION:2.0
PRODID:-//94.9 The Wave - ECPv4.6.26//NONSGML v1.0//EN
CALSCALE:GREGORIAN
METHOD:PUBLISH
X-WR-CALNAME:94.9 The Wave
X-ORIGINAL-URL:https://949thewave.com
X-WR-CALDESC:Events for 94.9 The Wave
BEGIN:VEVENT
DTSTART;TZID=America/Halifax:20171102T080000
DTEND;TZID=America/Halifax:20171105T170000
DTSTAMP:20260419T190618
CREATED:20171031T134546Z
LAST-MODIFIED:20171031T134546Z
UID:4219-1509609600-1509901200@949thewave.com
SUMMARY:Green and Gold Hockey Tournament
DESCRIPTION:Annual Mae Kibyuk Green & Gold Hockey Tournament this weekend Nov. 2-5th\, 2017 at the Emera Centre in North Sydney \n
URL:https://949thewave.com/event/green-and-gold-hockey-tournament/
END:VEVENT
BEGIN:VEVENT
DTSTART;TZID=America/Halifax:20171102T123000
DTEND;TZID=America/Halifax:20171102T140000
DTSTAMP:20260419T190618
CREATED:20171025T130734Z
LAST-MODIFIED:20171025T130734Z
UID:4187-1509625800-1509631200@949thewave.com
SUMMARY:IODE Meeting
DESCRIPTION:The monthly meeting of Louisbourg-Ceilidh Chapter IODE will be held in the Shaw Room of Bethel Presbyterian Church hall\, Brookland St\, Sydney on Thursday\, November 2 at 12 : 30pm  Margie MacNeil\,  a volunteer with Palliative Care\,  will be the guest speaker \nNew members & guests welcome \n  \n
URL:https://949thewave.com/event/iode-meeting/
END:VEVENT
BEGIN:VEVENT
DTSTART;TZID=America/Halifax:20171102T180000
DTEND;TZID=America/Halifax:20171102T193000
DTSTAMP:20260419T190618
CREATED:20171025T130959Z
LAST-MODIFIED:20171025T131019Z
UID:4193-1509645600-1509651000@949thewave.com
SUMMARY:Tea and Sale
DESCRIPTION: Christmas Tea & Sale \nMacMillan Memorial \nCatalone\, \nNov.2nd\, 6-7:30 P.M. \n
URL:https://949thewave.com/event/tea-and-sale-4/
END:VEVENT
END:VCALENDAR