BEGIN:VCALENDAR
VERSION:2.0
PRODID:-//94.9 The Wave - ECPv4.6.26//NONSGML v1.0//EN
CALSCALE:GREGORIAN
METHOD:PUBLISH
X-WR-CALNAME:94.9 The Wave
X-ORIGINAL-URL:https://949thewave.com
X-WR-CALDESC:Events for 94.9 The Wave
BEGIN:VEVENT
DTSTART;TZID=America/Halifax:20171013T190000
DTEND;TZID=America/Halifax:20171031T210000
DTSTAMP:20260420T090012
CREATED:20171011T175051Z
LAST-MODIFIED:20171011T175110Z
UID:4070-1507921200-1509483600@949thewave.com
SUMMARY:Halloween Haunt
DESCRIPTION:The Southend Community Centre is partnering with Westside Cemetery to bring a Halloween Haunt to the community. We would love if this event could be added to your community calendar. Here are the details: Date: Various shows between October 13 – 31 Time: 7:00 pm Location: Southend Community Centre (1464 George Street\, Sydney NS) Details: The Westside Cemetery is coming to the Southend Community Centre and will be sure to give all guests and thrill-seekers a spooktacular visit! With detailed sets and great\, gory actors\, this haunted Halloween walk will definitely give you the chills. Tickets are $10.00 and can be purchased at the door. For more details\, including kids shows\, visit the Southend Community Centre’s Facebook page. \n
URL:https://949thewave.com/event/halloween-haunt/
END:VEVENT
BEGIN:VEVENT
DTSTART;TZID=America/Halifax:20171025T100000
DTEND;TZID=America/Halifax:20171025T150000
DTSTAMP:20260420T090012
CREATED:20171013T174131Z
LAST-MODIFIED:20171013T174248Z
UID:4079-1508925600-1508943600@949thewave.com
SUMMARY:Open House - Glace Bay Adult Day Program
DESCRIPTION:The Glace Bay Adult Day Program provides older adults with social\, physical and cognitive stimulation through a variety of activities. The program is hosting an Open House on Oct. 25\, between 10am-12pm and 1-3 at Glace Bay Hospital\, Main Floor. Stop by to meet our staff and see what we do! To learn more about our program\, call 902-842-2807. \n
URL:https://949thewave.com/event/open-house-glace-bay-adult-day-program/
END:VEVENT
BEGIN:VEVENT
DTSTART;TZID=America/Halifax:20171025T140000
DTEND;TZID=America/Halifax:20171025T160000
DTSTAMP:20260420T090012
CREATED:20170919T132006Z
LAST-MODIFIED:20170919T132006Z
UID:3894-1508940000-1508947200@949thewave.com
SUMMARY:45's Card Game
DESCRIPTION:45’s Card Game\n\nOctober 25 @ 2:00 pm – 4:00 pm \n\n45’s Card Game will be held at The Mira Seniors’ and Pensioners’ Centre\, Marion Bridge on Wednesday\, October 25 from 2 PM – 4 PM.  All are Welcome! \n\n\n
URL:https://949thewave.com/event/45s-card-game-11/
END:VEVENT
BEGIN:VEVENT
DTSTART;TZID=America/Halifax:20171025T183000
DTEND;TZID=America/Halifax:20171025T203000
DTSTAMP:20260420T090012
CREATED:20171005T170224Z
LAST-MODIFIED:20171005T170224Z
UID:4036-1508956200-1508963400@949thewave.com
SUMMARY:North Sydney Community Session
DESCRIPTION:Wednesday\, Oct. 25th from 6:30 to 8:30 pm. North Sydney. Wilfred Oram Centennial Library on 309 Commercial St. The Ally Centre and a member of CBU Sociology (Communities & Connections) faculty will be sharing the realities facing vulnerable members of our community and the service providers who work with them. Stories and results from research conducted in our communities will be shared \n
URL:https://949thewave.com/event/north-sydney-community-session/
END:VEVENT
BEGIN:VEVENT
DTSTART;TZID=America/Halifax:20171025T183000
DTEND;TZID=America/Halifax:20171025T233000
DTSTAMP:20260420T090012
CREATED:20171017T134708Z
LAST-MODIFIED:20171017T134708Z
UID:4098-1508956200-1508974200@949thewave.com
SUMMARY:Halloween Movie Night
DESCRIPTION:The Christmas Crew is happy to announce that it is planning a Halloween movie night at the Cape Breton Drive Inn on October 21st at dusk. Donations will be accepted at the gate and there will ILLUMINATED bracelets for the youth at no charge. All money donated will be used to provide local families a grocery order at Christmas Time. There will  be a kids costume parade during intermission. The movies will be Hotel Transylvania and the Nightmare Before Christmas.  \n  \n
URL:https://949thewave.com/event/halloween-movie-night/
END:VEVENT
END:VCALENDAR