BEGIN:VCALENDAR
VERSION:2.0
PRODID:-//94.9 The Wave - ECPv4.6.26//NONSGML v1.0//EN
CALSCALE:GREGORIAN
METHOD:PUBLISH
X-WR-CALNAME:94.9 The Wave
X-ORIGINAL-URL:https://949thewave.com
X-WR-CALDESC:Events for 94.9 The Wave
BEGIN:VEVENT
DTSTART;TZID=America/Halifax:20171013T190000
DTEND;TZID=America/Halifax:20171031T210000
DTSTAMP:20260420T171528
CREATED:20171011T175051Z
LAST-MODIFIED:20171011T175110Z
UID:4070-1507921200-1509483600@949thewave.com
SUMMARY:Halloween Haunt
DESCRIPTION:The Southend Community Centre is partnering with Westside Cemetery to bring a Halloween Haunt to the community. We would love if this event could be added to your community calendar. Here are the details: Date: Various shows between October 13 – 31 Time: 7:00 pm Location: Southend Community Centre (1464 George Street\, Sydney NS) Details: The Westside Cemetery is coming to the Southend Community Centre and will be sure to give all guests and thrill-seekers a spooktacular visit! With detailed sets and great\, gory actors\, this haunted Halloween walk will definitely give you the chills. Tickets are $10.00 and can be purchased at the door. For more details\, including kids shows\, visit the Southend Community Centre’s Facebook page. \n
URL:https://949thewave.com/event/halloween-haunt/
END:VEVENT
BEGIN:VEVENT
DTSTART;TZID=America/Halifax:20171024T183000
DTEND;TZID=America/Halifax:20171024T200000
DTSTAMP:20260420T171528
CREATED:20171017T135213Z
LAST-MODIFIED:20171017T135213Z
UID:4106-1508869800-1508875200@949thewave.com
SUMMARY:SOS (Survivors of Suicide) Cape Breton Meeting
DESCRIPTION:On Tuesday\, October 24\, 2017 – 6:30pm there will be a meeting of SOS(Survivors Of Suicide) Cape Breton at 188 George Street\, Sydney\, NS Anyone who is a survivor of suicide loss is welcomed to attend these meetings held every 4th Tuesday of the month (except December when there is no meeting). \n
URL:https://949thewave.com/event/sos-survivors-of-suicide-cape-breton-meeting/
END:VEVENT
BEGIN:VEVENT
DTSTART;TZID=America/Halifax:20171024T190000
DTEND;TZID=America/Halifax:20171024T210000
DTSTAMP:20260420T171528
CREATED:20171013T174613Z
LAST-MODIFIED:20171013T174613Z
UID:4081-1508871600-1508878800@949thewave.com
SUMMARY:Halloween Bunco Night
DESCRIPTION:St. Mary’s Senior Guild Halloween Bunco Night with prizes and light lunch.  Tuesday\, October 24\, 2017 @ 7 PM at St. Mary’s Hall (upstairs)\, 8 Marconi Street\, Glace Bay.  $6 at the door \n
URL:https://949thewave.com/event/halloween-bunco-night/
END:VEVENT
BEGIN:VEVENT
DTSTART;TZID=America/Halifax:20171024T190000
DTEND;TZID=America/Halifax:20171024T210000
DTSTAMP:20260420T171528
CREATED:20171017T134951Z
LAST-MODIFIED:20171017T134951Z
UID:4102-1508871600-1508878800@949thewave.com
SUMMARY:McConnell Library
DESCRIPTION:Tuesday\, October 24th                  7 pm \nMcConnell Library (Sydney) \nAuthor Reading: Gloria Ann Wesley \n  \nJoin African Nova Scotian author\, educator\, and historian Gloria Ann Wesley for a passionate talk on her One Book Nova Scotia nominated title ‘If This Is Freedom’.  \n‘If This Is Freedom’ continues the story of struggle for Loyalist settlers in Nova Scotia after the American Revolutionary War. In the black settlement of Birchtown\, times are especially hard for the former slaves. They face the difficulties of a hardscrabble existence and continued discrimination from their white counterparts. \n Gloria will also present some of the historical context around the origins of African Nova Scotians – the Loyalists\, Refugees of 1812\, Maroons and immigrants who migrated to communities like Whitney Pier for work and better lives. Gloria’s companion books ‘Chasing Freedom’ and ‘If This Is Freedom’ share black history with us in a way that is both honest and emotional. \n
URL:https://949thewave.com/event/mcconnell-library-4/
END:VEVENT
END:VCALENDAR