BEGIN:VCALENDAR
VERSION:2.0
PRODID:-//94.9 The Wave - ECPv4.6.26//NONSGML v1.0//EN
CALSCALE:GREGORIAN
METHOD:PUBLISH
X-WR-CALNAME:94.9 The Wave
X-ORIGINAL-URL:https://949thewave.com
X-WR-CALDESC:Events for 94.9 The Wave
BEGIN:VEVENT
DTSTART;TZID=America/Halifax:20171013T190000
DTEND;TZID=America/Halifax:20171031T210000
DTSTAMP:20260421T000203
CREATED:20171011T175051Z
LAST-MODIFIED:20171011T175110Z
UID:4070-1507921200-1509483600@949thewave.com
SUMMARY:Halloween Haunt
DESCRIPTION:The Southend Community Centre is partnering with Westside Cemetery to bring a Halloween Haunt to the community. We would love if this event could be added to your community calendar. Here are the details: Date: Various shows between October 13 – 31 Time: 7:00 pm Location: Southend Community Centre (1464 George Street\, Sydney NS) Details: The Westside Cemetery is coming to the Southend Community Centre and will be sure to give all guests and thrill-seekers a spooktacular visit! With detailed sets and great\, gory actors\, this haunted Halloween walk will definitely give you the chills. Tickets are $10.00 and can be purchased at the door. For more details\, including kids shows\, visit the Southend Community Centre’s Facebook page. \n
URL:https://949thewave.com/event/halloween-haunt/
END:VEVENT
BEGIN:VEVENT
DTSTART;TZID=America/Halifax:20171020T103000
DTEND;TZID=America/Halifax:20171020T123000
DTSTAMP:20260421T000203
CREATED:20171011T175500Z
LAST-MODIFIED:20171011T175500Z
UID:4074-1508495400-1508502600@949thewave.com
SUMMARY:Senior's Brunch
DESCRIPTION:Seniors Brunch: Join us on Friday\, October 20th at St. Mary’s Hall for a Fall-themed brunch served at 10:30 a.m. along with musical entertainment. Silver collection at the door to help cover costs. Seating is limited to 65 people. Call (902) 849-2449 to reserve a seat \n
URL:https://949thewave.com/event/seniors-brunch/
END:VEVENT
BEGIN:VEVENT
DTSTART;TZID=America/Halifax:20171020T140000
DTEND;TZID=America/Halifax:20171020T170000
DTSTAMP:20260421T000203
CREATED:20170925T182148Z
LAST-MODIFIED:20170925T182148Z
UID:3953-1508508000-1508518800@949thewave.com
SUMMARY:NATIONAL ASSOCIATION OF FEDERAL RETIREES SEMI-ANNUAL MEETING
DESCRIPTION:NATIONAL ASSOCIATION OF FEDERAL RETIREES (NAFR) SEMI-ANNUAL DINNER MEETING (Formerly FSNA) MEETING DATE: October 20\, 2017 LOCATION: Seniors and Pensioners Memorial Hall\, corner of Inglis St. and Prince St.\, Sydney\, NS TIME: 2:00 PM GUEST SPEAKER: Odilia MacDonald\, Marco Hearing Health Centre Topic: Hearing Care for Seniors DINNER MEETING REGISTRATION DEADLINE: October 16\, 2017 Contact person: James Wheelhouse – 902-567-6156 Dinner – Please mail $12.00 check or money order to: NAFR\, Cape Breton Branch\, PO Box 785\, Sydney\, NS\, B1P 6J1 All retired members of the Public Service\, RCMP and Canadian Forces\, are welcome to attend\, as are qualified persons seeking membership in the National Association of Federal Retirees. For further information please contact the NAFR office at 902-539-4465 or 902-562-6541 \n
URL:https://949thewave.com/event/national-association-of-federal-retirees-semi-annual-meeting/
END:VEVENT
BEGIN:VEVENT
DTSTART;TZID=America/Halifax:20171020T170000
DTEND;TZID=America/Halifax:20171020T200000
DTSTAMP:20260421T000203
CREATED:20171011T175335Z
LAST-MODIFIED:20171011T175335Z
UID:4072-1508518800-1508529600@949thewave.com
SUMMARY:Empty Bowls Fundraiser
DESCRIPTION:Please join us for our 2nd Annual Empty Bowls. Local potters\, farmers\, and chefs have joined together to present a fundraising supper for the Glace Bay Food Bank that will be held on Friday October 20th\, 2017 at the Glace Bay Fire Hall. Come and pick out a handmade bowl to fill with your choice of chef inspired soups and keep the bowl at the end of night. Tea\, coffee\, and sides will also be served. Wheel chair accessible. \n
URL:https://949thewave.com/event/empty-bowls-fundraiser/
END:VEVENT
BEGIN:VEVENT
DTSTART;TZID=America/Halifax:20171020T180000
DTEND;TZID=America/Halifax:20171020T210000
DTSTAMP:20260421T000204
CREATED:20171005T165742Z
LAST-MODIFIED:20171005T165742Z
UID:4030-1508522400-1508533200@949thewave.com
SUMMARY:Teen Games Night
DESCRIPTION:Teen Games Night @ the Library \nMcConnell Library\, Sydney Friday Oct. 20th\, 6-9 pm \nTeens 12 and up – bring your friends! Come enjoy video games\, board games\, and card games! Snacks available and … Pizza compliments of Kenny’s Pizza! \n
URL:https://949thewave.com/event/teen-games-night/
END:VEVENT
BEGIN:VEVENT
DTSTART;TZID=America/Halifax:20171020T183000
DTEND;TZID=America/Halifax:20171020T213000
DTSTAMP:20260421T000204
CREATED:20171005T165534Z
LAST-MODIFIED:20171005T165534Z
UID:4028-1508524200-1508535000@949thewave.com
SUMMARY:Community C.A.R.E.S Outreach Youth Fundraiser
DESCRIPTION:Do You Like Horror Movies??? \nRemember My Bloody Valentine? \nJoin Us For A Night Of Fright and Fun \nOct. 20th John J. Nugent Firehall 3 Elliott St. Sydney Mines \nMovie Begins at 6:30 PM           Admission $5.00 \nHorror Movie Trivia Begins at 8:15   $25.00 per person (Teams of up to 5)  $100.00 Cash Prize \nChildren under 12 must be accompanied by an adult \nTo register for Trivia call Eileen 902-371-0101 or email: futureccyo@live.com \nThis event is a fundraiser for Community C.A.R.E.S. Youth Outreach \nHOW BLODDY SMART ARE YOU????? \n
URL:https://949thewave.com/event/community-c-a-r-e-s-outreach-youth-fundraiser/
END:VEVENT
END:VCALENDAR