BEGIN:VCALENDAR
VERSION:2.0
PRODID:-//94.9 The Wave - ECPv4.6.26//NONSGML v1.0//EN
CALSCALE:GREGORIAN
METHOD:PUBLISH
X-WR-CALNAME:94.9 The Wave
X-ORIGINAL-URL:https://949thewave.com
X-WR-CALDESC:Events for 94.9 The Wave
BEGIN:VEVENT
DTSTART;TZID=America/Halifax:20171013T190000
DTEND;TZID=America/Halifax:20171031T210000
DTSTAMP:20260421T073621
CREATED:20171011T175051Z
LAST-MODIFIED:20171011T175110Z
UID:4070-1507921200-1509483600@949thewave.com
SUMMARY:Halloween Haunt
DESCRIPTION:The Southend Community Centre is partnering with Westside Cemetery to bring a Halloween Haunt to the community. We would love if this event could be added to your community calendar. Here are the details: Date: Various shows between October 13 – 31 Time: 7:00 pm Location: Southend Community Centre (1464 George Street\, Sydney NS) Details: The Westside Cemetery is coming to the Southend Community Centre and will be sure to give all guests and thrill-seekers a spooktacular visit! With detailed sets and great\, gory actors\, this haunted Halloween walk will definitely give you the chills. Tickets are $10.00 and can be purchased at the door. For more details\, including kids shows\, visit the Southend Community Centre’s Facebook page. \n
URL:https://949thewave.com/event/halloween-haunt/
END:VEVENT
BEGIN:VEVENT
DTSTART;TZID=America/Halifax:20171016T183000
DTEND;TZID=America/Halifax:20171016T203000
DTSTAMP:20260421T073621
CREATED:20171005T170458Z
LAST-MODIFIED:20171005T170458Z
UID:4040-1508178600-1508185800@949thewave.com
SUMMARY:Sydney Mines Community Session
DESCRIPTION:Oct. 16th – 6:30 to 8:30 pm – Sydney Mines Firemen’s Club – Elliot Street The Ally Centre and a member of CBU Sociology (Communities & Connections) faculty will be sharing the realities facing vulnerable members of our community and the service providers who work with them. Stories and results from research conducted in our communities will be shared \n
URL:https://949thewave.com/event/sydney-mines-community-session/
END:VEVENT
END:VCALENDAR