BEGIN:VCALENDAR
VERSION:2.0
PRODID:-//94.9 The Wave - ECPv4.6.26//NONSGML v1.0//EN
CALSCALE:GREGORIAN
METHOD:PUBLISH
X-WR-CALNAME:94.9 The Wave
X-ORIGINAL-URL:https://949thewave.com
X-WR-CALDESC:Events for 94.9 The Wave
BEGIN:VEVENT
DTSTART;VALUE=DATE:20170922
DTEND;VALUE=DATE:20171015
DTSTAMP:20260422T031420
CREATED:20170922T161313Z
LAST-MODIFIED:20170922T161313Z
UID:3933-1506038400-1508025599@949thewave.com
SUMMARY:Children's Wish Wish Maker Walk
DESCRIPTION:Register your team at www.wishmaker.ca \nSaturday October 14\, 2017 \nLocation: \nNew Dawn Centre for Innovation \n37 Napean St\, Sydney \nContact Cathy Sutherland 902-537-0813 \n
URL:https://949thewave.com/event/childrens-wish-wish-maker-walk/
ATTACH;FMTTYPE=image/png:https://949thewave.com/wp-content/uploads/sites/12/2017/09/wishmaker_walk.png
END:VEVENT
BEGIN:VEVENT
DTSTART;TZID=America/Halifax:20171004T080000
DTEND;TZID=America/Halifax:20171006T170000
DTSTAMP:20260422T031420
CREATED:20170925T182805Z
LAST-MODIFIED:20170925T182805Z
UID:3961-1507104000-1507309200@949thewave.com
SUMMARY:North Atlantic Fiddle Convention Workshops at Cape Breton University
DESCRIPTION:October 4-6\, 2017 Join us at Cape Breton University for three jam-packed days of workshops! Workshops on October 4 are all concerned with writing music and writing about music. Choose from workshops on songwriting\, tune writing\, or workshops designed to help you share your ideas and research with as wide an audience as possible using Wikipedia\, podcasts\, websites\, and social media. Join our keynote speaker\, Anna Birch\, on October 5 and 6 to learn how Performance Studies can deepen your appreciation and analysis of traditional music and dance. All workshops are free\, although registration is required. For more information and to register visit www.nafcoworkshop2017.eventbrite.ca \n
URL:https://949thewave.com/event/north-atlantic-fiddle-convention-workshops-at-cape-breton-university/
END:VEVENT
BEGIN:VEVENT
DTSTART;TZID=America/Halifax:20171004T190000
DTEND;TZID=America/Halifax:20171004T210000
DTSTAMP:20260422T031420
CREATED:20170919T132817Z
LAST-MODIFIED:20170919T132817Z
UID:3904-1507143600-1507150800@949thewave.com
SUMMARY:McConnell Library
DESCRIPTION:October 4 @ 7:00 pm – 9:00 pm\n \n \nA Celebration of NS Architecture\n\n\n\nMcConnell Library (50 Falmouth Street\, Sydney) \nWednesday\, October 4 at 7 PM \nMembers of Nova Scotia’s Association of Architects will offer a presentation \nthat celebrates architects and their profession. Discussion will include\, architecture as a growing high tech profession; the role of the architect as a contributor to the community and economy; the extensive training that the \narchitectural profession demands; and a selection of design and building \nprojects from around Nova Scotia. \nOctober 2-7 ~ Architecture Week \n\n\n
URL:https://949thewave.com/event/mcconnell-library-2/
END:VEVENT
END:VCALENDAR