BEGIN:VCALENDAR
VERSION:2.0
PRODID:-//94.9 The Wave - ECPv4.6.26//NONSGML v1.0//EN
CALSCALE:GREGORIAN
METHOD:PUBLISH
X-WR-CALNAME:94.9 The Wave
X-ORIGINAL-URL:https://949thewave.com
X-WR-CALDESC:Events for 94.9 The Wave
BEGIN:VEVENT
DTSTART;VALUE=DATE:20170922
DTEND;VALUE=DATE:20171015
DTSTAMP:20260424T121717
CREATED:20170922T161313Z
LAST-MODIFIED:20170922T161313Z
UID:3933-1506038400-1508025599@949thewave.com
SUMMARY:Children's Wish Wish Maker Walk
DESCRIPTION:Register your team at www.wishmaker.ca \nSaturday October 14\, 2017 \nLocation: \nNew Dawn Centre for Innovation \n37 Napean St\, Sydney \nContact Cathy Sutherland 902-537-0813 \n
URL:https://949thewave.com/event/childrens-wish-wish-maker-walk/
ATTACH;FMTTYPE=image/png:https://949thewave.com/wp-content/uploads/sites/12/2017/09/wishmaker_walk.png
END:VEVENT
BEGIN:VEVENT
DTSTART;TZID=America/Halifax:20170929T080000
DTEND;TZID=America/Halifax:20170930T160000
DTSTAMP:20260424T121717
CREATED:20170829T175151Z
LAST-MODIFIED:20170829T175151Z
UID:3744-1506672000-1506787200@949thewave.com
SUMMARY:Ways to Wellness
DESCRIPTION:THE CAPE BRETON CANCER CENTER \nPRESENTS \nWAYS TO WELLNESS IX – “TWO DAYS OF HOPING AND COPING” \nA program for cancer patients\, survivors\, and family members \nInformation & sharing on living well with cancer – The role of nutrition and physical activity -Stress Reduction Techniques – \nDate: September 29th & September 30th\, 2017 Time: 8:00am -4:00pm Location: Pier Legion\, Victoria Road Sydney\, NS \nFor further information or to register call the Cape Breton Cancer Center at: 567-8074 (Please leave a message and someone will contact you.) Pre-registration is required- Free Registration\, Lunch is provided.   Reminder: this is a SCENT FREE event! \n
URL:https://949thewave.com/event/ways-to-wellness/
END:VEVENT
BEGIN:VEVENT
DTSTART;TZID=America/Halifax:20170930T100000
DTEND;TZID=America/Halifax:20170930T170000
DTSTAMP:20260424T121717
CREATED:20170919T132317Z
LAST-MODIFIED:20170919T132317Z
UID:3898-1506765600-1506790800@949thewave.com
SUMMARY:Fall Food Drive
DESCRIPTION:September 30 @ 10:00 am – 5:00 pm\n \n \nThe Glace Bay Food Bank will hold there Fall Food Drive on Saturday\, September 30th at 10 AM.\n\n\n\nGlace Bay Food Bank is in great need of Volunteers.  Will be canvassing Glace Bay\, Reserve\, Donkin\, Port Morien\, Port Caledonia\, Birch Grove\, Tower Road for nonperishable food items. \nMark your parcel Food Bank and leave on your front step. \nAnyone interested with assisting with the Food Drive\, please contact Food Bank at 902-849-0750. \nhelping with the Food Drive means your helping people in your community. \n\n\n
URL:https://949thewave.com/event/fall-food-drive/
END:VEVENT
BEGIN:VEVENT
DTSTART;TZID=America/Halifax:20170930T100000
DTEND;TZID=America/Halifax:20170930T160000
DTSTAMP:20260424T121717
CREATED:20170927T133311Z
LAST-MODIFIED:20170927T133311Z
UID:3978-1506765600-1506787200@949thewave.com
SUMMARY:Canadian Army Reserve Open House
DESCRIPTION:The public is invited to an Open House hosted by Canadian Army Reserve units in Cape Breton between 10 a.m. and 4 p.m. on Saturday\, September 30\, at the following locations: • Victoria Park Armouries\, 1 Desbarres Street\, Sydney\, NS\, B1P 6Z2; • Dr Guglielmo Marconi Armoury\, 78 Sterling Road\, Glace Bay B1A 5J5; and • Port Hawkesbury Armoury\, 24 Queen Street\, Port Hawkesbury NS\, B9A 3T8. There will be interactive displays and activities to showcase the important work Reservists do for Canadians. Unit representatives will also be available to discuss available opportunities for part-time employment. Reservists receive a competitive salary\, a benefits package including medical and dental coverage\, education subsidies and excellent leadership and trades training. The public is advised that there may be an increased military precence in the vicinity of these events\, as well as increased noise levels due to simulated drills. \n
URL:https://949thewave.com/event/canadian-army-reserve-open-house/
END:VEVENT
BEGIN:VEVENT
DTSTART;TZID=America/Halifax:20170930T103000
DTEND;TZID=America/Halifax:20170930T140000
DTSTAMP:20260424T121717
CREATED:20170922T143219Z
LAST-MODIFIED:20170922T143219Z
UID:3930-1506767400-1506780000@949thewave.com
SUMMARY:Food Drive
DESCRIPTION:Food Drive Sponsored by St. Vincent de Paul Society on Saturday\, September 30 from 1030 AM – 2 PM.  Areas covered Lingan\, River Ryan\, Scotchtown\, New Waterford and New Victoria.  Please leave non perishable food (in a visible spot) on your front step.  Any donation is greatly appreciated.    Can use the following items\, canned ham\, tuna\, spaghetti\, vegetables\, fruit\, beans\, soup and Milk.  Can also use Peanut butter\, Jam\, Cereal\, Juice\, pasta\, rice\, pasta sauces\, crackers\, instant potatoes and Kraft Dinner.  Please check Expiry Date.  If you are missed\, please call 862-3779. \n
URL:https://949thewave.com/event/food-drive/
END:VEVENT
BEGIN:VEVENT
DTSTART;TZID=America/Halifax:20170930T120000
DTEND;TZID=America/Halifax:20170930T170000
DTSTAMP:20260424T121717
CREATED:20170919T132415Z
LAST-MODIFIED:20170919T132415Z
UID:3900-1506772800-1506790800@949thewave.com
SUMMARY:Cooking and Bake Sale
DESCRIPTION:Cooking and Bake Sale\n\nSeptember 30 @ 12:00 pm – 5:00 pm \n\nHome Cooking & Bake Sale will be held at Mayflower Mall on Saturday\, September 30 starting at 12 noon. Lots of delicious foods made by ladies of Louisbourg-Ceilidh Chapter IODE \n\n\n
URL:https://949thewave.com/event/cooking-and-bake-sale/
END:VEVENT
END:VCALENDAR