BEGIN:VCALENDAR
VERSION:2.0
PRODID:-//94.9 The Wave - ECPv4.6.26//NONSGML v1.0//EN
CALSCALE:GREGORIAN
METHOD:PUBLISH
X-WR-CALNAME:94.9 The Wave
X-ORIGINAL-URL:https://949thewave.com
X-WR-CALDESC:Events for 94.9 The Wave
BEGIN:VEVENT
DTSTART;VALUE=DATE:20170922
DTEND;VALUE=DATE:20171015
DTSTAMP:20260424T134751
CREATED:20170922T161313Z
LAST-MODIFIED:20170922T161313Z
UID:3933-1506038400-1508025599@949thewave.com
SUMMARY:Children's Wish Wish Maker Walk
DESCRIPTION:Register your team at www.wishmaker.ca \nSaturday October 14\, 2017 \nLocation: \nNew Dawn Centre for Innovation \n37 Napean St\, Sydney \nContact Cathy Sutherland 902-537-0813 \n
URL:https://949thewave.com/event/childrens-wish-wish-maker-walk/
ATTACH;FMTTYPE=image/png:https://949thewave.com/wp-content/uploads/sites/12/2017/09/wishmaker_walk.png
END:VEVENT
BEGIN:VEVENT
DTSTART;TZID=America/Halifax:20170929T080000
DTEND;TZID=America/Halifax:20170930T160000
DTSTAMP:20260424T134751
CREATED:20170829T175151Z
LAST-MODIFIED:20170829T175151Z
UID:3744-1506672000-1506787200@949thewave.com
SUMMARY:Ways to Wellness
DESCRIPTION:THE CAPE BRETON CANCER CENTER \nPRESENTS \nWAYS TO WELLNESS IX – “TWO DAYS OF HOPING AND COPING” \nA program for cancer patients\, survivors\, and family members \nInformation & sharing on living well with cancer – The role of nutrition and physical activity -Stress Reduction Techniques – \nDate: September 29th & September 30th\, 2017 Time: 8:00am -4:00pm Location: Pier Legion\, Victoria Road Sydney\, NS \nFor further information or to register call the Cape Breton Cancer Center at: 567-8074 (Please leave a message and someone will contact you.) Pre-registration is required- Free Registration\, Lunch is provided.   Reminder: this is a SCENT FREE event! \n
URL:https://949thewave.com/event/ways-to-wellness/
END:VEVENT
BEGIN:VEVENT
DTSTART;TZID=America/Halifax:20170929T190000
DTEND;TZID=America/Halifax:20170929T210000
DTSTAMP:20260424T134751
CREATED:20170912T163028Z
LAST-MODIFIED:20170912T163028Z
UID:3849-1506711600-1506718800@949thewave.com
SUMMARY:Paint night in support of the childrens wish foundation
DESCRIPTION:Children’s Wish Foundation and we have organized a paint night on September 29th 7-9 at the Dobson Yacht club in Westmount hosted by Professional Artist Nancy Chaisson. Tickets are $40 dollars if interested please call Nancy at 902-322-0731.  All proceeds for his event will go to hero’s challenge team in Corey’s memory in support of the Children’s Wish Foundation \n
URL:https://949thewave.com/event/paint-night-in-support-of-the-childrens-wish-foundation/
END:VEVENT
END:VCALENDAR