BEGIN:VCALENDAR
VERSION:2.0
PRODID:-//94.9 The Wave - ECPv4.6.26//NONSGML v1.0//EN
CALSCALE:GREGORIAN
METHOD:PUBLISH
X-WR-CALNAME:94.9 The Wave
X-ORIGINAL-URL:https://949thewave.com
X-WR-CALDESC:Events for 94.9 The Wave
BEGIN:VEVENT
DTSTART;VALUE=DATE:20170921
DTEND;VALUE=DATE:20170924
DTSTAMP:20260425T012830
CREATED:20170912T160815Z
LAST-MODIFIED:20170912T160815Z
UID:3842-1505952000-1506211199@949thewave.com
SUMMARY:Lumière
DESCRIPTION:Sept. 21-23 | Sydney\, NS \n\nAbout Lumière \nLumière is a free\, three-day arts festival culminating in a spectacular art-at-night event that lights up Sydney’s civic spaces with contemporary art\, culture and community spirit. Working with artists from Cape Breton and beyond\, Lumière presents innovative projects in a unique format that transforms everyday spaces into extraordinary venues for the arts. \nPublic programming events\, including artist talks\, workshops and film screenings will take place September 21\, 22 + 23rd\, 2017. The signature art-at-night event will be held from 7:00PM to midnight\, Saturday September 23rd featuring 37 unique installations and performances. \n\n
URL:https://949thewave.com/event/lumiere/
ATTACH;FMTTYPE=image/png:https://949thewave.com/wp-content/uploads/sites/12/2017/09/Lumiere_CKPE.png
END:VEVENT
END:VCALENDAR