BEGIN:VCALENDAR
VERSION:2.0
PRODID:-//94.9 The Wave - ECPv4.6.26//NONSGML v1.0//EN
CALSCALE:GREGORIAN
METHOD:PUBLISH
X-WR-CALNAME:94.9 The Wave
X-ORIGINAL-URL:https://949thewave.com
X-WR-CALDESC:Events for 94.9 The Wave
BEGIN:VEVENT
DTSTART;TZID=America/Halifax:20170914T140000
DTEND;TZID=America/Halifax:20170914T160000
DTSTAMP:20260425T113355
CREATED:20170829T174948Z
LAST-MODIFIED:20170829T174948Z
UID:3740-1505397600-1505404800@949thewave.com
SUMMARY:CB Chapter Ostomy Meeting
DESCRIPTION:The Cape Breton Chapter of the Ostomy Canada Society will meet on Thursday Sep 14th\, 2017 from 2pm – 4pm at the Glace Bay Hospital\, Board Room\, Glace Bay. This is a support group for ostomates and their support/caregivers. New ostomates are welcome. \nA light lunch will be served. \nFor more information contact : Verna Petrie – 862-8540 \n
URL:https://949thewave.com/event/cb-chapter-ostomy-meeting/
END:VEVENT
END:VCALENDAR