BEGIN:VCALENDAR
VERSION:2.0
PRODID:-//94.9 The Wave - ECPv4.6.26//NONSGML v1.0//EN
CALSCALE:GREGORIAN
METHOD:PUBLISH
X-WR-CALNAME:94.9 The Wave
X-ORIGINAL-URL:https://949thewave.com
X-WR-CALDESC:Events for 94.9 The Wave
BEGIN:VEVENT
DTSTART;TZID=America/Halifax:20171021T100000
DTEND;TZID=America/Halifax:20171021T140000
DTSTAMP:20260425T192428
CREATED:20170927T133220Z
LAST-MODIFIED:20170927T133220Z
UID:3976-1508580000-1508594400@949thewave.com
SUMMARY:Yard Sale / Flea Market
DESCRIPTION:* Saturday\, October 21st * 10:00am-2:00pm * Louisbourg Fire Hall (7485 Main Street) * Table Rentals: $10 each – contact Lloydette at 733-5705 or Cindy at 733-2351 * If bringing your own table you must call to reserve a space * Sponsor: Louisbourg & Area Celebrations Society \n
URL:https://949thewave.com/event/yard-sale-flea-market/
END:VEVENT
END:VCALENDAR