BEGIN:VCALENDAR
VERSION:2.0
PRODID:-//94.9 The Wave - ECPv4.6.26//NONSGML v1.0//EN
CALSCALE:GREGORIAN
METHOD:PUBLISH
X-WR-CALNAME:94.9 The Wave
X-ORIGINAL-URL:https://949thewave.com
X-WR-CALDESC:Events for 94.9 The Wave
BEGIN:VEVENT
DTSTART;TZID=America/Halifax:20230618T090000
DTEND;TZID=America/Halifax:20230618T120000
DTSTAMP:20260421T234741
CREATED:20230608T134812Z
LAST-MODIFIED:20230608T134812Z
UID:14240-1687078800-1687089600@949thewave.com
SUMMARY:Yard Sale
DESCRIPTION:Warden United Church\nFifth St Glace Bay\nJune 18\, 2023\n9am-12pm \n
URL:https://949thewave.com/event/yard-sale-5/
END:VEVENT
END:VCALENDAR