BEGIN:VCALENDAR
VERSION:2.0
PRODID:-//94.9 The Wave - ECPv4.6.26//NONSGML v1.0//EN
CALSCALE:GREGORIAN
METHOD:PUBLISH
X-WR-CALNAME:94.9 The Wave
X-ORIGINAL-URL:https://949thewave.com
X-WR-CALDESC:Events for 94.9 The Wave
BEGIN:VEVENT
DTSTART;TZID=America/Halifax:20180707T083000
DTEND;TZID=America/Halifax:20180707T133000
DTSTAMP:20260420T185552
CREATED:20180706T143452Z
LAST-MODIFIED:20180706T143452Z
UID:4710-1530952200-1530970200@949thewave.com
SUMMARY:Yard Sale
DESCRIPTION:YARD SALE\, SOMETHING FOR EVERYONE.  SATURDAY\, 7 JULY 2018\,   8:30AM – 1:30 PM \n  \n5 HARRIET\, ST\, SYDNEY RIVER\, NS \n
URL:https://949thewave.com/event/yard-sale-2/
END:VEVENT
END:VCALENDAR