BEGIN:VCALENDAR
VERSION:2.0
PRODID:-//94.9 The Wave - ECPv4.6.26//NONSGML v1.0//EN
CALSCALE:GREGORIAN
METHOD:PUBLISH
X-WR-CALNAME:94.9 The Wave
X-ORIGINAL-URL:https://949thewave.com
X-WR-CALDESC:Events for 94.9 The Wave
BEGIN:VEVENT
DTSTART;TZID=America/Halifax:20171108T180000
DTEND;TZID=America/Halifax:20171108T200000
DTSTAMP:20260421T190652
CREATED:20171102T125624Z
LAST-MODIFIED:20171102T125624Z
UID:4239-1510164000-1510171200@949thewave.com
SUMMARY:Women's Wednesdays monthly event
DESCRIPTION:A monthly event to inspire\, support\, and encourage women’s artistry in all it’s forms. This month\, Wed\, Nov. 8 our guests will be musical therapist Shelley Allen and essential oil specialist Imelda Bejar-Godinez. It’s taking place at Higher Gounds Cafe 299 Commercial Street\, North Sydney. Doors open at 6:00 pm. Donation at the door. \n
URL:https://949thewave.com/event/womens-wednesdays-monthly-event/
END:VEVENT
END:VCALENDAR