BEGIN:VCALENDAR
VERSION:2.0
PRODID:-//94.9 The Wave - ECPv4.6.26//NONSGML v1.0//EN
CALSCALE:GREGORIAN
METHOD:PUBLISH
X-WR-CALNAME:94.9 The Wave
X-ORIGINAL-URL:https://949thewave.com
X-WR-CALDESC:Events for 94.9 The Wave
BEGIN:VEVENT
DTSTART;TZID=America/Halifax:20210227T100000
DTEND;TZID=America/Halifax:20210227T170000
DTSTAMP:20260421T025624
CREATED:20210222T185041Z
LAST-MODIFIED:20210222T185140Z
UID:11075-1614420000-1614445200@949thewave.com
SUMMARY:WINTER FAMILY FUN WEEKEND
DESCRIPTION:The park will be open from 10 am-5 pm\nFree Tractor-Wagon Rides 1-3 pm each day\nWinter fun Scavenger Hunt (pick up at the office)\nCanteen open from 12-4 pm\nSledding all-day\nSnowshoe rentals available\nGeneral park admission applies\, park passes honoured\n
URL:https://949thewave.com/event/winter-family-fun-weekend/2021-02-27/
CATEGORIES:Community Events
END:VEVENT
END:VCALENDAR