BEGIN:VCALENDAR
VERSION:2.0
PRODID:-//94.9 The Wave - ECPv4.6.26//NONSGML v1.0//EN
CALSCALE:GREGORIAN
METHOD:PUBLISH
X-WR-CALNAME:94.9 The Wave
X-ORIGINAL-URL:https://949thewave.com
X-WR-CALDESC:Events for 94.9 The Wave
BEGIN:VEVENT
DTSTART;TZID=America/Halifax:20230117T100000
DTEND;TZID=America/Halifax:20230117T160000
DTSTAMP:20260423T161021
CREATED:20221230T144407Z
LAST-MODIFIED:20221230T144407Z
UID:13465-1673949600-1673971200@949thewave.com
SUMMARY:Winter Colouring at Glace Bay Library
DESCRIPTION:Drop in to the Glace Bay Library on January 17th for some winter colouring.  From 10am until 4pm. \n
URL:https://949thewave.com/event/winter-colouring-at-glace-bay-library/
END:VEVENT
END:VCALENDAR