BEGIN:VCALENDAR
VERSION:2.0
PRODID:-//94.9 The Wave - ECPv4.6.26//NONSGML v1.0//EN
CALSCALE:GREGORIAN
METHOD:PUBLISH
X-WR-CALNAME:94.9 The Wave
X-ORIGINAL-URL:https://949thewave.com
X-WR-CALDESC:Events for 94.9 The Wave
BEGIN:VEVENT
DTSTART;VALUE=DATE:20241018
DTEND;VALUE=DATE:20241019
DTSTAMP:20260422T163351
CREATED:20241008T143304Z
LAST-MODIFIED:20241008T143304Z
UID:16203-1729209600-1729295999@949thewave.com
SUMMARY:Warren Lake Hike
DESCRIPTION:Hike Nova Scotia and Cape Breton Highlands National Park present a guided hike on the Warren Lake Trail in Ingonish on October 18 at 10:00 AM. Registration may be required in advance; details at www.hikenovascotia.ca. \n
URL:https://949thewave.com/event/warren-lake-hike/
END:VEVENT
END:VCALENDAR