BEGIN:VCALENDAR
VERSION:2.0
PRODID:-//94.9 The Wave - ECPv4.6.26//NONSGML v1.0//EN
CALSCALE:GREGORIAN
METHOD:PUBLISH
X-WR-CALNAME:94.9 The Wave
X-ORIGINAL-URL:https://949thewave.com
X-WR-CALDESC:Events for 94.9 The Wave
BEGIN:VEVENT
DTSTART;VALUE=DATE:20230125
DTEND;VALUE=DATE:20230126
DTSTAMP:20260421T043754
CREATED:20230110T172240Z
LAST-MODIFIED:20230110T172240Z
UID:13505-1674604800-1674691199@949thewave.com
SUMMARY:Warren Lake Hike or Snowshoe
DESCRIPTION:Warren Lake Hike or Snowshoe: Jan. 25\nHike Nova Scotia and the Cape Breton Highlands National Park present a guided hike or snowshoe at Warren Lake in Ingonish on January 25 at 10 am. Details at www.hikenovascotia.ca. \n
URL:https://949thewave.com/event/warren-lake-hike-or-snowshoe/
END:VEVENT
END:VCALENDAR