BEGIN:VCALENDAR
VERSION:2.0
PRODID:-//94.9 The Wave - ECPv4.6.26//NONSGML v1.0//EN
CALSCALE:GREGORIAN
METHOD:PUBLISH
X-WR-CALNAME:94.9 The Wave
X-ORIGINAL-URL:https://949thewave.com
X-WR-CALDESC:Events for 94.9 The Wave
BEGIN:VEVENT
DTSTART;TZID=America/Halifax:20230712T140000
DTEND;TZID=America/Halifax:20230712T160000
DTSTAMP:20260424T135731
CREATED:20230704T130706Z
LAST-MODIFIED:20230704T130706Z
UID:14358-1689170400-1689177600@949thewave.com
SUMMARY:Warden United Church Strawberry Festival
DESCRIPTION:July 12 from 2pm-4pm\nWarden United Church UCW\n5th Street\nGlace Bay\nAdmission $10\nPhone Warna 902-202-4430 for information \n
URL:https://949thewave.com/event/warden-united-church-strawberry-festival/
END:VEVENT
END:VCALENDAR