BEGIN:VCALENDAR
VERSION:2.0
PRODID:-//94.9 The Wave - ECPv4.6.26//NONSGML v1.0//EN
CALSCALE:GREGORIAN
METHOD:PUBLISH
X-WR-CALNAME:94.9 The Wave
X-ORIGINAL-URL:https://949thewave.com
X-WR-CALDESC:Events for 94.9 The Wave
BEGIN:VEVENT
DTSTART;TZID=America/Halifax:20240710T140000
DTEND;TZID=America/Halifax:20240710T160000
DTSTAMP:20260424T135602
CREATED:20240708T131016Z
LAST-MODIFIED:20240708T131016Z
UID:15814-1720620000-1720627200@949thewave.com
SUMMARY:Warden U.C.W Strawberry Festival
DESCRIPTION:Wed July 10th 2024\nFrom 2pm to 4pm\nCall Warna Fraser 902-202-4430 or\nHelen Stewart 902-849-4768 for tickets\nAdmission $12.00 \n
URL:https://949thewave.com/event/warden-u-c-w-strawberry-festival/
END:VEVENT
END:VCALENDAR