BEGIN:VCALENDAR
VERSION:2.0
PRODID:-//94.9 The Wave - ECPv4.6.26//NONSGML v1.0//EN
CALSCALE:GREGORIAN
METHOD:PUBLISH
X-WR-CALNAME:94.9 The Wave
X-ORIGINAL-URL:https://949thewave.com
X-WR-CALDESC:Events for 94.9 The Wave
BEGIN:VEVENT
DTSTART;TZID=America/Halifax:20171021T130000
DTEND;TZID=America/Halifax:20171021T170000
DTSTAMP:20260425T192438
CREATED:20171011T174937Z
LAST-MODIFIED:20171011T174937Z
UID:4068-1508590800-1508605200@949thewave.com
SUMMARY:Veteran's Memorial Tarabish Tournament
DESCRIPTION:RCL Branch 12 Sydney will be hosting the 2nd Annual Veterans Memorial Tarabish Tournament on Saturday October 21st\, 2017 at the branch.  \nStart time: 1:00 PM \nFor ticket information please call 902-539-3618 or 902-564-6675. \n  \n
URL:https://949thewave.com/event/veterans-memorial-tarabish-tournament/
END:VEVENT
END:VCALENDAR