BEGIN:VCALENDAR
VERSION:2.0
PRODID:-//94.9 The Wave - ECPv4.6.26//NONSGML v1.0//EN
CALSCALE:GREGORIAN
METHOD:PUBLISH
X-WR-CALNAME:94.9 The Wave
X-ORIGINAL-URL:https://949thewave.com
X-WR-CALDESC:Events for 94.9 The Wave
BEGIN:VEVENT
DTSTART;TZID=America/Halifax:20180708T103000
DTEND;TZID=America/Halifax:20180708T170000
DTSTAMP:20260422T180113
CREATED:20180618T174516Z
LAST-MODIFIED:20180618T174516Z
UID:4631-1531045800-1531069200@949thewave.com
SUMMARY:Velo Cape Breton Gabarus-Fourchu Bicycle Ride / Picnic / Poker Run
DESCRIPTION:Takes place on July 8\, Sunday\, at 10:30 starting from Gabarus. See details at link below. Thanks so much. https://www.velocapebreton.ca/events/gabarus-to-fourchu-picnic-poker-run It’s coming soon (July 8)! It’s BIG (40 km or 60 km\, up to you)\, it’s got FOOD (picnic lunch)\, it’s got mostly FLAT topography\, it’s got SCENERY\, it’s got a POKER RUN! For members and anyone else — but you gotta REGISTER — at the link above. Come join us! Bring friends! See website for further details. \n
URL:https://949thewave.com/event/velo-cape-breton-gabarus-fourchu-bicycle-ride-picnic-poker-run/
END:VEVENT
END:VCALENDAR