BEGIN:VCALENDAR
VERSION:2.0
PRODID:-//94.9 The Wave - ECPv4.6.26//NONSGML v1.0//EN
CALSCALE:GREGORIAN
METHOD:PUBLISH
X-WR-CALNAME:94.9 The Wave
X-ORIGINAL-URL:https://949thewave.com
X-WR-CALDESC:Events for 94.9 The Wave
BEGIN:VEVENT
DTSTART;VALUE=DATE:20170211
DTEND;VALUE=DATE:20170212
DTSTAMP:20260421T091507
CREATED:20170216T212846Z
LAST-MODIFIED:20170216T212846Z
UID:2089-1486771200-1486857599@949thewave.com
SUMMARY:Valentine's Round and Square Dance
DESCRIPTION:There will be a Valentine’s Round and Square Dance at the John J. Nugent Firemen’s Centre on Saturday February 11\, 2017 from 9-1. Tickets are $15/person. Entertainment will be Kyle and Shamus MacNeil\, Howie MacDonald\, Kimberly Fraser and Aaron C. Lewis. Tickets are available at Reid’s Petro Can in Sydney Mines or by calling 902-578-7507. \n
URL:https://949thewave.com/event/valentines-round-and-square-dance/
END:VEVENT
END:VCALENDAR