BEGIN:VCALENDAR
VERSION:2.0
PRODID:-//94.9 The Wave - ECPv4.6.26//NONSGML v1.0//EN
CALSCALE:GREGORIAN
METHOD:PUBLISH
X-WR-CALNAME:94.9 The Wave
X-ORIGINAL-URL:https://949thewave.com
X-WR-CALDESC:Events for 94.9 The Wave
BEGIN:VEVENT
DTSTART;TZID=America/Halifax:20200214T180000
DTEND;TZID=America/Halifax:20200214T200000
DTSTAMP:20260421T153546
CREATED:20200121T174748Z
LAST-MODIFIED:20200121T174748Z
UID:8949-1581703200-1581710400@949thewave.com
SUMMARY:Valentine's Roast Beef Dinner
DESCRIPTION:St. John the Baptist Mothers’ Union will host a Valentine’s Roast Beef Dinner. It will take place on Friday\, February 14th at 6:00 pm. at 28 King Street\, North Sydney. There will be door prizes and entertainment. Tickets are $15.00 each.  Tickets are available at the Parish office 902-794-3392 or calling Debbie Moore at 902-544-1018 or 902-371-2807. \n
URL:https://949thewave.com/event/valentines-roast-beef-dinner-2/
END:VEVENT
END:VCALENDAR