BEGIN:VCALENDAR
VERSION:2.0
PRODID:-//94.9 The Wave - ECPv4.6.26//NONSGML v1.0//EN
CALSCALE:GREGORIAN
METHOD:PUBLISH
X-WR-CALNAME:94.9 The Wave
X-ORIGINAL-URL:https://949thewave.com
X-WR-CALDESC:Events for 94.9 The Wave
BEGIN:VEVENT
DTSTART;TZID=America/Halifax:20200214T183000
DTEND;TZID=America/Halifax:20200214T233000
DTSTAMP:20260423T113137
CREATED:20200127T141841Z
LAST-MODIFIED:20200127T141841Z
UID:9010-1581705000-1581723000@949thewave.com
SUMMARY:Valentine Supper Dance
DESCRIPTION:Valentine Supper Dance at the Steelworkers and Pensioners Club on Inglis Street\, Sydney on Friday\, February 14th.  Music by First Choice.  For tickets please call 902539-2728 \n
URL:https://949thewave.com/event/valentine-supper-dance/
END:VEVENT
END:VCALENDAR