BEGIN:VCALENDAR
VERSION:2.0
PRODID:-//94.9 The Wave - ECPv4.6.26//NONSGML v1.0//EN
CALSCALE:GREGORIAN
METHOD:PUBLISH
X-WR-CALNAME:94.9 The Wave
X-ORIGINAL-URL:https://949thewave.com
X-WR-CALDESC:Events for 94.9 The Wave
BEGIN:VEVENT
DTSTART;TZID=America/Halifax:20170411T080000
DTEND;TZID=America/Halifax:20170411T120000
DTSTAMP:20260425T165225
CREATED:20170410T175939Z
LAST-MODIFIED:20170410T175939Z
UID:2546-1491897600-1491912000@949thewave.com
SUMMARY:United Way Community Impact Summit
DESCRIPTION:The summit is hosted at Centre 200\, on April 11th. Starting at 8:00am – Noon\, we will have our featured speaker\, Dan Pallotta present on two topics\, followed by a strategic planning session. It’s a proactive summit on community involvement. \n
URL:https://949thewave.com/event/united-way-community-impact-summit/
END:VEVENT
END:VCALENDAR