BEGIN:VCALENDAR
VERSION:2.0
PRODID:-//94.9 The Wave - ECPv4.6.26//NONSGML v1.0//EN
CALSCALE:GREGORIAN
METHOD:PUBLISH
X-WR-CALNAME:94.9 The Wave
X-ORIGINAL-URL:https://949thewave.com
X-WR-CALDESC:Events for 94.9 The Wave
BEGIN:VEVENT
DTSTART;TZID=America/Halifax:20221209T180000
DTEND;TZID=America/Halifax:20221209T210000
DTSTAMP:20260424T151114
CREATED:20221129T170734Z
LAST-MODIFIED:20221129T170734Z
UID:13384-1670608800-1670619600@949thewave.com
SUMMARY:Undercurrent craft fair
DESCRIPTION:Undercurrent Youth Centre is holding a Merry & Bright Shopping Night at the Centre at 224 York St. Glace Bay on December 9th from 6:00pm – 9:00pm. Enjoy a relaxing evening of shopping with local artisans and businesses. There will be door prizes\, tea\, coffee\, hot chocolate and sweets. Admission is by donation\, with proceeds going to the youth centre. \n
URL:https://949thewave.com/event/undercurrent-craft-fair/
END:VEVENT
END:VCALENDAR