BEGIN:VCALENDAR
VERSION:2.0
PRODID:-//94.9 The Wave - ECPv4.6.26//NONSGML v1.0//EN
CALSCALE:GREGORIAN
METHOD:PUBLISH
X-WR-CALNAME:94.9 The Wave
X-ORIGINAL-URL:https://949thewave.com
X-WR-CALDESC:Events for 94.9 The Wave
BEGIN:VEVENT
DTSTART;VALUE=DATE:20221113
DTEND;VALUE=DATE:20221114
DTSTAMP:20260421T092744
CREATED:20221017T123431Z
LAST-MODIFIED:20221017T123431Z
UID:13239-1668297600-1668383999@949thewave.com
SUMMARY:Turkey Salad & Dessert Take Out\, Sat. Nov 19th St. Columba Church Hall MARION BRIDGE
DESCRIPTION:Turkey Salad Plate with Roll &\nHomemade Dessert Cake’\nSt. Columba Church Hall-MARION BRIDGE\nSat. Nov. 19th Pick Up 12-2 pm\n$14 & Children $7\nPreorder by Nov 13th Call Audrey 727-2253 or Wilma 567-1771 \n
URL:https://949thewave.com/event/turkey-salad-dessert-take-out-sat-nov-19th-st-columba-church-hall-marion-bridge/
END:VEVENT
END:VCALENDAR