BEGIN:VCALENDAR
VERSION:2.0
PRODID:-//94.9 The Wave - ECPv4.6.26//NONSGML v1.0//EN
CALSCALE:GREGORIAN
METHOD:PUBLISH
X-WR-CALNAME:94.9 The Wave
X-ORIGINAL-URL:https://949thewave.com
X-WR-CALDESC:Events for 94.9 The Wave
BEGIN:VEVENT
DTSTART;TZID=America/Halifax:20170520T110000
DTEND;TZID=America/Halifax:20170520T140000
DTSTAMP:20260422T161400
CREATED:20170510T121814Z
LAST-MODIFIED:20170510T121814Z
UID:3049-1495278000-1495288800@949thewave.com
SUMMARY:Treat and Treasures at Mira Seniors Center
DESCRIPTION:Treats and Treasures at Mira Seniors Center on Saturday\, May 20th between 11 AM  to 2 PM.  For just $3 you are provided with a shopping bag with pre-loved items in great condition.  A delicious lunch will also be available at minimum cost.  For more information\, please call 902-563-7419 \n
URL:https://949thewave.com/event/treat-and-treasures-at-mira-seniors-center/
END:VEVENT
END:VCALENDAR