BEGIN:VCALENDAR
VERSION:2.0
PRODID:-//94.9 The Wave - ECPv4.6.26//NONSGML v1.0//EN
CALSCALE:GREGORIAN
METHOD:PUBLISH
X-WR-CALNAME:94.9 The Wave
X-ORIGINAL-URL:https://949thewave.com
X-WR-CALDESC:Events for 94.9 The Wave
BEGIN:VEVENT
DTSTART;TZID=America/Halifax:20200220T100000
DTEND;TZID=America/Halifax:20200220T213000
DTSTAMP:20260423T175855
CREATED:20200127T140821Z
LAST-MODIFIED:20200127T140821Z
UID:9006-1582192800-1582234200@949thewave.com
SUMMARY:Thursdays at the Steelworkers and Sydney Pensioners Club
DESCRIPTION:Steelworkers and Pensioners Club\, Inglis Street\, Sydney \nExercise Class at 10 AM. Everyone Welcome \nTarabish Game at 130 PM.  Everyone Welcome \nTarabish Game at 730 PM. Everyone Welcome \n
URL:https://949thewave.com/event/thursdays-at-the-steelworkers-and-sydney-pensioners-club-3/
END:VEVENT
END:VCALENDAR