BEGIN:VCALENDAR
VERSION:2.0
PRODID:-//94.9 The Wave - ECPv4.6.26//NONSGML v1.0//EN
CALSCALE:GREGORIAN
METHOD:PUBLISH
X-WR-CALNAME:94.9 The Wave
X-ORIGINAL-URL:https://949thewave.com
X-WR-CALDESC:Events for 94.9 The Wave
BEGIN:VEVENT
DTSTART;TZID=America/Halifax:20211204T110000
DTEND;TZID=America/Halifax:20211204T130000
DTSTAMP:20260422T154648
CREATED:20211108T162932Z
LAST-MODIFIED:20211108T162932Z
UID:12214-1638615600-1638622800@949thewave.com
SUMMARY:The Mira Centre Bake Sale
DESCRIPTION:Marion Bridge Saturday\, Dec 4 from 11:00 am to 1:00 pm at the Mira Centre \nA bake sale with delicious homemade baking and Trinkets and Treasure event with numerous new to you items for sale. Please help the environment by bringing your own bags. \n
URL:https://949thewave.com/event/the-mira-centre-bake-sale/
CATEGORIES:Community Event
END:VEVENT
END:VCALENDAR