BEGIN:VCALENDAR
VERSION:2.0
PRODID:-//94.9 The Wave - ECPv4.6.26//NONSGML v1.0//EN
CALSCALE:GREGORIAN
METHOD:PUBLISH
X-WR-CALNAME:94.9 The Wave
X-ORIGINAL-URL:https://949thewave.com
X-WR-CALDESC:Events for 94.9 The Wave
BEGIN:VEVENT
DTSTART;TZID=America/Halifax:20211211T190000
DTEND;TZID=America/Halifax:20211211T210000
DTSTAMP:20260421T041320
CREATED:20211207T172750Z
LAST-MODIFIED:20211207T172750Z
UID:12320-1639249200-1639256400@949thewave.com
SUMMARY:The Men of The Deeps "Christmas in the Mine"
DESCRIPTION:Special guests Jenn Sheppard & Richard Burke! St. Leonards Parish Church\, New Waterford\, Dec. 11th @ 7 pm. Tickets $25.00 Available at the Parish Centre 902-862-2255 or 902-317-5425. Masks are mandatory and proof of double vaccination is required. \n
URL:https://949thewave.com/event/the-men-of-the-deeps-christmas-in-the-mine/
CATEGORIES:Community Event
END:VEVENT
END:VCALENDAR