BEGIN:VCALENDAR
VERSION:2.0
PRODID:-//94.9 The Wave - ECPv4.6.26//NONSGML v1.0//EN
CALSCALE:GREGORIAN
METHOD:PUBLISH
X-WR-CALNAME:94.9 The Wave
X-ORIGINAL-URL:https://949thewave.com
X-WR-CALDESC:Events for 94.9 The Wave
BEGIN:VEVENT
DTSTART;TZID=America/Halifax:20180528T190000
DTEND;TZID=America/Halifax:20180528T210000
DTSTAMP:20260425T152642
CREATED:20180528T175706Z
LAST-MODIFIED:20180528T175706Z
UID:4519-1527534000-1527541200@949thewave.com
SUMMARY:The Art of Medicine
DESCRIPTION:The Art of Medicine Today May 28th 7pm – 9pm New Dawn Center for Social Innovation “Using the Arts to Enhance Patient Care and Wellbeing” The Art of Medicine\, in its fourth year\, will again present readings from Paul MacDougall’s patient creative writing group Write On! and musical selections from Shelley Allen’s music therapy group\, Silent Thunder. This year\, for the first time\, dance will be introduced\, with Danielle Jessome performing a dance in honor of her father\, Robert Jessome. Other highlights include Dr. Julie Sutherlands talk on Bibliotherapy\, Jason LeFranse’s film about Paula Graham and a performance by music therapist Jill Murphy. No registration required \n
URL:https://949thewave.com/event/the-art-of-medicine/
END:VEVENT
END:VCALENDAR