BEGIN:VCALENDAR
VERSION:2.0
PRODID:-//94.9 The Wave - ECPv4.6.26//NONSGML v1.0//EN
CALSCALE:GREGORIAN
METHOD:PUBLISH
X-WR-CALNAME:94.9 The Wave
X-ORIGINAL-URL:https://949thewave.com
X-WR-CALDESC:Events for 94.9 The Wave
BEGIN:VEVENT
DTSTART;VALUE=DATE:20211217
DTEND;VALUE=DATE:20211224
DTSTAMP:20260421T154727
CREATED:20211109T153804Z
LAST-MODIFIED:20211109T153804Z
UID:12217-1639699200-1640303999@949thewave.com
SUMMARY:The Annual Winter Light Up Trail- Two Rivers Wildlife Park
DESCRIPTION:Join them from December 17-23 or December 27-30 to view one of the brightest holiday light displays on the Island. Tickets are $12/person and include a hot dog\, cookie kit\, hot chocolate and tractor/wagon ride! Even the big red guy will be joining us leading up to Christmas  \nWinter Light Up is fun for all ages! Call 902-727-2483 to purchase your tickets with a credit card  Proof of vaccination & masks required! \n\nAlso\, why not make it a weekend and Book one of their cabins during the winter months for only $120/night with no minimum night stay required!! Maximum of 6 guests\, no pets allowed. Amenities include a fridge\, microwave\, BBQ & propane\, picnic table\, fire pit and heat pump! Shower and dishwashing stations are only stepping away\n\n\nVisit our website to learn more: https://bit.ly/31AyzGA\n\n
URL:https://949thewave.com/event/the-annual-winter-light-up-trail-two-rivers-wildlife-park/
CATEGORIES:Community Events
ATTACH;FMTTYPE=image/png:https://949thewave.com/wp-content/uploads/sites/12/2021/11/253467272_10159877797574319_8572632769222380939_n.png
END:VEVENT
END:VCALENDAR