BEGIN:VCALENDAR
VERSION:2.0
PRODID:-//94.9 The Wave - ECPv4.6.26//NONSGML v1.0//EN
CALSCALE:GREGORIAN
METHOD:PUBLISH
X-WR-CALNAME:94.9 The Wave
X-ORIGINAL-URL:https://949thewave.com
X-WR-CALDESC:Events for 94.9 The Wave
BEGIN:VEVENT
DTSTART;TZID=America/Halifax:20230705T183000
DTEND;TZID=America/Halifax:20230705T193000
DTSTAMP:20260424T121830
CREATED:20230626T174347Z
LAST-MODIFIED:20230626T174347Z
UID:14292-1688581800-1688585400@949thewave.com
SUMMARY:Teddy Bear Sleepover
DESCRIPTION:Glace Bay Library \nWednesday July 5 \n6:30 – 7:30 \nAll plushies welcome to bring their human to the sleep over!  We have stories\, games and snacks!  Registration required.  902-849-8657 or email ewilliams@cbrl.ca \n  \n
URL:https://949thewave.com/event/teddy-bear-sleepover/
END:VEVENT
END:VCALENDAR