BEGIN:VCALENDAR
VERSION:2.0
PRODID:-//94.9 The Wave - ECPv4.6.26//NONSGML v1.0//EN
CALSCALE:GREGORIAN
METHOD:PUBLISH
X-WR-CALNAME:94.9 The Wave
X-ORIGINAL-URL:https://949thewave.com
X-WR-CALDESC:Events for 94.9 The Wave
BEGIN:VEVENT
DTSTART;TZID=America/Halifax:20250406T110000
DTEND;TZID=America/Halifax:20250406T150000
DTSTAMP:20260424T110416
CREATED:20250403T171233Z
LAST-MODIFIED:20250403T171233Z
UID:16804-1743937200-1743951600@949thewave.com
SUMMARY:TEAM CANADA CHEERLEADING FUNDRAISER
DESCRIPTION:There will be a ham and salad dinner fundraiser for the TEAM CANADA CHEERLEADERS happening at Knox hall this coming Sunday April 6 from 11-3 pm\n232 Commercial Street Glace Bay during their last market \n
URL:https://949thewave.com/event/team-canada-cheerleading-fundraiser/
END:VEVENT
END:VCALENDAR