BEGIN:VCALENDAR
VERSION:2.0
PRODID:-//94.9 The Wave - ECPv4.6.26//NONSGML v1.0//EN
CALSCALE:GREGORIAN
METHOD:PUBLISH
X-WR-CALNAME:94.9 The Wave
X-ORIGINAL-URL:https://949thewave.com
X-WR-CALDESC:Events for 94.9 The Wave
BEGIN:VEVENT
DTSTART;TZID=America/Halifax:20171015T140000
DTEND;TZID=America/Halifax:20171015T160000
DTSTAMP:20260421T110027
CREATED:20170925T182304Z
LAST-MODIFIED:20170925T182304Z
UID:3955-1508076000-1508083200@949thewave.com
SUMMARY:Sydney Curling Club Junior Registration
DESCRIPTION:Curling registration for Alpha/Junior curling (ages 7-20) will be held at the Sydney Curling Club\, 619 George Street\, Sunday\, October 15 from 2-4 p.m. Curling takes place on Mondays and Wednesdays from October until April. For more information call the club at 539-4012 \n
URL:https://949thewave.com/event/sydney-curling-club-junior-registration/
END:VEVENT
END:VCALENDAR