BEGIN:VCALENDAR
VERSION:2.0
PRODID:-//94.9 The Wave - ECPv4.6.26//NONSGML v1.0//EN
CALSCALE:GREGORIAN
METHOD:PUBLISH
X-WR-CALNAME:94.9 The Wave
X-ORIGINAL-URL:https://949thewave.com
X-WR-CALDESC:Events for 94.9 The Wave
BEGIN:VEVENT
DTSTART;TZID=America/Halifax:20250716T130000
DTEND;TZID=America/Halifax:20250716T160000
DTSTAMP:20260421T162803
CREATED:20250715T100927Z
LAST-MODIFIED:20250715T101457Z
UID:17272-1752670800-1752681600@949thewave.com
SUMMARY:Susan Coombes Memorial Teddy Bear Picnic & Sobey’s Children’s Festival
DESCRIPTION:All children are invited to grab your teddy bear and blanket and head to Colliery Lands Park for an afternoon of fun! Head to “Sinful Sweets” page on fb to register a space to decorate your own yummy cupcake during the picnic! Add a BBQ\, balloon animals\, bouncy tent\, and more and we have the recipe for a great day free of charge!\n\nSponsored by the Coal Dust Days Society\, Sobeys New Waterford and Sinful Sweets.\n\n\n
URL:https://949thewave.com/event/susan-coombes-memorial-teddy-bear-picnic-sobeys-childrens-festival/
LOCATION:North Street Pensioners Hall Dance
END:VEVENT
END:VCALENDAR