BEGIN:VCALENDAR
VERSION:2.0
PRODID:-//94.9 The Wave - ECPv4.6.26//NONSGML v1.0//EN
CALSCALE:GREGORIAN
METHOD:PUBLISH
X-WR-CALNAME:94.9 The Wave
X-ORIGINAL-URL:https://949thewave.com
X-WR-CALDESC:Events for 94.9 The Wave
BEGIN:VEVENT
DTSTART;TZID=America/Halifax:20250208T100000
DTEND;TZID=America/Halifax:20250208T130000
DTSTAMP:20260420T203956
CREATED:20250120T171701Z
LAST-MODIFIED:20250120T171701Z
UID:16633-1739008800-1739019600@949thewave.com
SUMMARY:Super Saturday : Valentines crafts
DESCRIPTION:Glace Bay Library \nSat Feb 8   10-1pm \nCome make some valentines crafts. Happy Valentines Day! \n  \n  \n
URL:https://949thewave.com/event/super-saturday-valentines-crafts-2/
END:VEVENT
END:VCALENDAR